BEGIN:VCALENDAR
VERSION:2.0
PRODID:icalendar-ruby
CALSCALE:GREGORIAN
METHOD:PUBLISH
BEGIN:VEVENT
DTSTAMP:20210225T172108Z
UID:http://www.epeople.com.au/property?property_id=594743
DTSTART:20140913T100000
DTEND:20140913T103000
CLASS:PUBLIC
CREATED:20200716T113603
DESCRIPTION: 
LAST-MODIFIED:20200716T113604
LOCATION:17 St Leonards Street\, COORPAROO QLD 4151\, Australia
SUMMARY:17 St Leonards Street\,  Auction
URL:http://www.epeople.com.au/property?property_id=594743
END:VEVENT
END:VCALENDAR
