BEGIN:VCALENDAR
VERSION:2.0
PRODID:icalendar-ruby
CALSCALE:GREGORIAN
METHOD:PUBLISH
BEGIN:VTIMEZONE
TZID:Australia/Brisbane
BEGIN:STANDARD
DTSTART:19920301T020000
TZOFFSETFROM:+1100
TZOFFSETTO:+1000
TZNAME:AEST
END:STANDARD
END:VTIMEZONE
BEGIN:VEVENT
DTSTAMP:20210225T171513Z
UID:inspection_934585
DTSTART;TZID=Australia/Brisbane:20210227T120014
DTEND;TZID=Australia/Brisbane:20210227T123014
CLASS:PUBLIC
CREATED:20210225T114637
DESCRIPTION: 
LAST-MODIFIED:20210225T114637
LOCATION:608 / 8 Zillah Street\, STONES CORNER QLD 4120\, Australia
SUMMARY:608 / 8 Zillah Street\,  Inspection
URL:http://www.epeople.com.au/
END:VEVENT
END:VCALENDAR
