BEGIN:VCALENDAR
VERSION:2.0
PRODID:icalendar-ruby
CALSCALE:GREGORIAN
METHOD:PUBLISH
BEGIN:VTIMEZONE
TZID:Australia/Brisbane
BEGIN:STANDARD
DTSTART:19920301T020000
TZOFFSETFROM:+1100
TZOFFSETTO:+1000
TZNAME:AEST
END:STANDARD
END:VTIMEZONE
BEGIN:VEVENT
DTSTAMP:20210225T171505Z
UID:inspection_934018
DTSTART;TZID=Australia/Brisbane:20210227T110000
DTEND;TZID=Australia/Brisbane:20210227T113000
CLASS:PUBLIC
CREATED:20210224T214110
DESCRIPTION: 
LAST-MODIFIED:20210224T214110
LOCATION:89 Crewe Street\, MOUNT GRAVATT EAST QLD 4122\, Australia
SUMMARY:89 Crewe Street\,  Inspection
URL:http://www.epeople.com.au/
END:VEVENT
END:VCALENDAR
